BEGIN:VCALENDAR
VERSION:2.0
PRODID:-//ChamberMaster//Event Calendar 2.0//EN
METHOD:PUBLISH
X-PUBLISHED-TTL:P3D
REFRESH-INTERVAL:P3D
CALSCALE:GREGORIAN
BEGIN:VEVENT
DTSTART:20260520T220000Z
DTEND:20260521T000000Z
X-MICROSOFT-CDO-ALLDAYEVENT:FALSE
SUMMARY:Dakotaland's Together Fest & 91st Annual Meeting
DESCRIPTION:Every year\, at Dakotaland Federal Credit Union\, we take the time to celebrate our members and the communities we serve.\n\nTogether Fest is our way of saying 'thank you' to our loyal members and 'welcome' to those interested in joining our credit union family.\n\nJoin us for a pulled pork meal\, games\, prizes\, and lots of fun for all ages.  Remember\, no membership required\, just bring your\n\nfamily and a smile. We look forward to seeing you there!
X-ALT-DESC;FMTTYPE=text/html:<span style="color:black\;"><span style="font-size:11.0pt\;">Every year\, at Dakotaland Federal Credit Union\, we take the time to celebrate our members and the communities we serve.</span></span><br />\n<span style="color:black\;"><span style="font-size:11.0pt\;">Together Fest is our way of saying &lsquo\;thank you&rsquo\; to our loyal members and &lsquo\;welcome&rsquo\; to those interested in joining our credit union family.</span></span><br />\n<span style="color:black\;"><span style="font-size:11.0pt\;">Join us for a pulled pork meal\, games\, prizes\, and lots of fun for all ages.&nbsp\; Remember\, no membership required\, just bring your</span></span><br />\n<span style="color:black\;"><span style="font-size:11.0pt\;">family and a smile. We look forward to seeing you there!</span></span>
LOCATION:Dakotaland Federal Credit Union 2297 Kansas Ave SE - Admin Building Huron\, South Dakota
UID:e.668.43459
SEQUENCE:3
DTSTAMP:20260423T110301Z
URL:http://chamber.hunthuronsd.com/events/details/dakotaland-s-together-fest-91st-annual-meeting-43459
END:VEVENT

END:VCALENDAR
