BEGIN:VCALENDAR
VERSION:2.0
PRODID:-//ChamberMaster//Event Calendar 2.0//EN
METHOD:PUBLISH
X-PUBLISHED-TTL:P3D
REFRESH-INTERVAL:P3D
CALSCALE:GREGORIAN
BEGIN:VEVENT
DTSTART;VALUE=DATE:20260925
DTEND;VALUE=DATE:20260926
TRANSP:TRANSPARENT
X-MICROSOFT-CDO-ALLDAYEVENT:TRUE
SUMMARY:HHS Class of '86 40th Reunion
DESCRIPTION:Huron High School Class of 1986 - 40th Reunion\n\nSeptember 25th\, 2026
X-ALT-DESC;FMTTYPE=text/html:Huron High School Class of 1986 - 40th Reunion<br />\nSeptember 25th\, 2026
LOCATION:
UID:e.668.43248
SEQUENCE:3
DTSTAMP:20260423T211133Z
URL:http://chamber.hunthuronsd.com/events/details/hhs-class-of-86-40th-reunion-43248
END:VEVENT

END:VCALENDAR
