BEGIN:VCALENDAR
VERSION:2.0
PRODID:-//ChamberMaster//Event Calendar 2.0//EN
METHOD:PUBLISH
X-PUBLISHED-TTL:P3D
REFRESH-INTERVAL:P3D
CALSCALE:GREGORIAN
BEGIN:VEVENT
DTSTART:20260502T230000Z
DTEND:20260503T000000Z
X-MICROSOFT-CDO-ALLDAYEVENT:FALSE
SUMMARY:Holy Trinity Catholic School Fiesta
DESCRIPTION:Holy Trinity Catholic School Fiesta: PUPUSAS\, BALLOON GUY\, FACE PAINTING AND PINATAS \n\nSaturday May 2\n\n6:00 - 8:00 PM
X-ALT-DESC;FMTTYPE=text/html:<p>Holy Trinity Catholic School Fiesta: PUPUSAS\, BALLOON GUY\, FACE PAINTING AND PINATAS&nbsp\;<br />\nSaturday May 2<br />\n6:00 - 8:00 PM<br />\n<br />\n<br />\n&nbsp\;</p>\n
LOCATION:Holy Trinity Catholic School 425 21st Street SW
UID:e.668.43489
SEQUENCE:3
DTSTAMP:20260423T105951Z
URL:http://chamber.hunthuronsd.com/events/details/holy-trinity-catholic-school-fiesta-43489
END:VEVENT

END:VCALENDAR
