BEGIN:VCALENDAR
VERSION:2.0
PRODID:-//ChamberMaster//Event Calendar 2.0//EN
METHOD:PUBLISH
X-PUBLISHED-TTL:P3D
REFRESH-INTERVAL:P3D
CALSCALE:GREGORIAN
BEGIN:VEVENT
DTSTART:20260424T150000Z
DTEND:20260424T190000Z
X-MICROSOFT-CDO-ALLDAYEVENT:FALSE
SUMMARY:Spring Huron Farmers' Market
DESCRIPTION:Spring Huron Farmer's Market Saturday 4/24/26 at the Center Plaza from\n\n10-2.
X-ALT-DESC;FMTTYPE=text/html:Spring Huron Farmer&#39\;s Market Saturday 4/24/26 at the Center Plaza from<br />\n10-2.<br />\n<br />\n&nbsp\;
LOCATION:Center Plaza
UID:e.668.43491
SEQUENCE:3
DTSTAMP:20260422T093808Z
URL:http://chamber.hunthuronsd.com/events/details/spring-huron-farmers-market-43491
END:VEVENT

END:VCALENDAR
